BEGIN:VCALENDAR
VERSION:2.0
PRODID:-//Date iCal//NONSGML kigkonsult.se iCalcreator 2.20.2//
METHOD:PUBLISH
X-WR-CALNAME;VALUE=TEXT:Event Calendar
BEGIN:VEVENT
UID:calendar.8270.field_event_date.0@sharon.audubon.org
DTSTAMP:20210423T211800Z
CREATED:20210317T152633Z
DESCRIPTION:**Canceled - We apologize for any inconvenience.\n  Friday\, Ap
 ril 23\, 2021 - \n19:00 to 21:00
DTSTART:20210423T190000Z
DTEND:20210423T210000Z
LAST-MODIFIED:20210423T144750Z
LOCATION:Connecticut\, United States
SUMMARY:For the Birds Trivia Night
URL;TYPE=URI:https://sharon.audubon.org/events/birds-trivia-night
END:VEVENT
END:VCALENDAR
