BEGIN:VCALENDAR
VERSION:2.0
PRODID:-//Date iCal//NONSGML kigkonsult.se iCalcreator 2.20.2//
METHOD:PUBLISH
X-WR-CALNAME;VALUE=TEXT:Event Calendar
BEGIN:VEVENT
UID:calendar.8267.field_event_date.0@sharon.audubon.org
DTSTAMP:20210423T211811Z
CREATED:20210316T201517Z
DESCRIPTION:Join Audubon on a guided bird walk around the Sharon Aud\n  Sat
 urday\, April 24\, 2021 - \n09:00 to 10:00
DTSTART:20210424T090000Z
DTEND:20210424T100000Z
LAST-MODIFIED:20210406T143752Z
LOCATION:325 Cornwall Bridge Road\, Sharon\, Connecticut\, 06069\, United S
 tates
SUMMARY:Community Bird Walk
URL;TYPE=URI:https://sharon.audubon.org/events/community-bird-walk-1
END:VEVENT
END:VCALENDAR
